BEGIN:VCALENDAR
PRODID:-//AddEvent Inc//AddEvent.com v1.7//EN
VERSION:2.0
BEGIN:VTIMEZONE
TZID:America/New_York
BEGIN:STANDARD
DTSTART:20231105T010000
RRULE:FREQ=YEARLY;BYDAY=1SU;BYMONTH=11
TZOFFSETFROM:-0400
TZOFFSETTO:-0500
TZNAME:EST
END:STANDARD
BEGIN:DAYLIGHT
DTSTART:20230312T030000
RRULE:FREQ=YEARLY;BYDAY=2SU;BYMONTH=3
TZOFFSETFROM:-0500
TZOFFSETTO:-0400
TZNAME:EDT
END:DAYLIGHT
END:VTIMEZONE
BEGIN:VEVENT
DTSTAMP:20231105T171008Z
STATUS:CONFIRMED
UID:1699204208addeventcom
SEQUENCE:0
DTSTART;VALUE=DATE:20231019
DTEND;VALUE=DATE:20231020
SUMMARY:Forum 2023: Brought to you by InterAction
DESCRIPTION:A day of conversation. \n\n------\n\nPowered by addevent.com \nShare your next event with us!\n
X-ALT-DESC;FMTTYPE=text/html:A day of conversation. <br /><br />------<br /><br />Powered by addevent.com <br>Share your next event with us!<br>
LOCATION:600 14th St NW\, Washington\, DC 20005
BEGIN:VALARM
TRIGGER:-PT30M
ACTION:DISPLAY
DESCRIPTION:Reminder
END:VALARM
TRANSP:OPAQUE
END:VEVENT
END:VCALENDAR