BEGIN:VCALENDAR
PRODID:-//AddEvent Inc//AddEvent.com v1.7//EN
VERSION:2.0
BEGIN:VTIMEZONE
TZID:Europe/Lisbon
BEGIN:STANDARD
DTSTART:20231029T010000
RRULE:FREQ=YEARLY;BYDAY=-1SU;BYMONTH=10
TZOFFSETFROM:+0100
TZOFFSETTO:+0000
TZNAME:WET
END:STANDARD
BEGIN:DAYLIGHT
DTSTART:20230326T020000
RRULE:FREQ=YEARLY;BYDAY=-1SU;BYMONTH=3
TZOFFSETFROM:+0000
TZOFFSETTO:+0100
TZNAME:WEST
END:DAYLIGHT
END:VTIMEZONE
BEGIN:VEVENT
DTSTAMP:20230826T044706Z
STATUS:CONFIRMED
UID:1693025226addeventcom
SEQUENCE:0
DTSTART;TZID=Europe/Lisbon:20220628T110000
DTEND;TZID=Europe/Lisbon:20220628T130000
SUMMARY:Green Maritime Corridors: From Ambition to Action and blue lunch
DESCRIPTION:How do we go from high ambitions on green shipping corridors to concrete action and results? The event\, a combination of presentation\, and a panel discussion will deep dive into the role of companies in creating dynamic ecosystems that will facilitate and strengthen the growth of Green Shipping Corridors. Lunch and mingling session will take place in the second half of the event at the location\, free of charge. The event is supported by the Nordic Council of Minister through its Nordic Talks series. \n\nSpeakers:\nMatt Duke\, CEO\, Grieg Maritime\nJan-Christoph Napierski\, Head of Regulatory Affairs\, Mærsk Mc-Kinney Møller Center for Zero Carbon Shipping \nIngrid Sidenvall Jegou\, Project Director\, Global Maritime Forum \nKatharine Palmer\, Shipping Lead/ Global Sustainability Manager\, UN High-Level Climate Champion / Lloyd´s Register\nBente Pretlove\, Programme Director Ocean Space\, DNV\n\nModerator:\nTaylor Goelz\, Program Manager of the Aspen Institute Energy & Environment Program’s Shipping Decarbonization Initiative\n\n------\n\nPowered by addevent.com \nShare your next event with us!\n
X-ALT-DESC;FMTTYPE=text/html:How do we go from high ambitions on green shipping corridors to concrete action and results? The event, a combination of presentation, and a panel discussion will deep dive into the role of companies in creating dynamic ecosystems that will facilitate and strengthen the growth of Green Shipping Corridors. Lunch and mingling session will take place in the second half of the event at the location, free of charge. The event is supported by the Nordic Council of Minister through its Nordic Talks series. <br><br>Speakers:<br />Matt Duke, CEO, Grieg Maritime<br />Jan-Christoph Napierski, Head of Regulatory Affairs, Mærsk Mc-Kinney Møller Center for Zero Carbon Shipping <br />Ingrid Sidenvall Jegou, Project Director, Global Maritime Forum <br />Katharine Palmer, Shipping Lead/ Global Sustainability Manager, UN High-Level Climate Champion / Lloyd´s Register<br />Bente Pretlove, Programme Director Ocean Space, DNV<br><br>Moderator:<br />Taylor Goelz, Program Manager of the Aspen Institute Energy &amp; Environment Program’s Shipping Decarbonization Initiative<br /><br />------<br /><br />Powered by addevent.com <br>Share your next event with us!<br>
LOCATION:EMEL - Alameda das Linhas de Torres 200\, 1750-150 Lisboa\, Portugal
BEGIN:VALARM
TRIGGER:-PT30M
ACTION:DISPLAY
DESCRIPTION:Reminder
END:VALARM
TRANSP:OPAQUE
END:VEVENT
END:VCALENDAR