BEGIN:VCALENDAR
PRODID:-//AddEvent Inc//AddEvent.com v1.7//EN
VERSION:2.0
BEGIN:VTIMEZONE
TZID:Europe/Lisbon
BEGIN:STANDARD
DTSTART:20231029T010000
RRULE:FREQ=YEARLY;BYDAY=-1SU;BYMONTH=10
TZOFFSETFROM:+0100
TZOFFSETTO:+0000
TZNAME:WET
END:STANDARD
BEGIN:DAYLIGHT
DTSTART:20230326T020000
RRULE:FREQ=YEARLY;BYDAY=-1SU;BYMONTH=3
TZOFFSETFROM:+0000
TZOFFSETTO:+0100
TZNAME:WEST
END:DAYLIGHT
END:VTIMEZONE
BEGIN:VEVENT
DTSTAMP:20230826T044652Z
STATUS:CONFIRMED
UID:1693025212addeventcom
SEQUENCE:0
DTSTART;TZID=Europe/Lisbon:20220628T100000
DTEND;TZID=Europe/Lisbon:20220628T110000
SUMMARY:Driving Ocean Protection & Tourism in the Blue Economy
DESCRIPTION:Maritime industries and touristic activities have a great economic potential for countries\, but also pose a challenge when it comes to environmental impacts such as pressure on natural resources\, pollution\, and acidification. Protecting the countries' ecosystems and promoting the companies' transition to more sustainable practices is a driving force for all ocean related activities and a winwin situation for all stakeholders involved. Businesses that depend on coastal and maritime ecosystems need to innovate and rethink their current business models and approach\, by integrating sustainability principles and practices to improve their performance.\n\nSpeakers: \nMario Parra da Silva\, Chair of the Board\, Global Compact Network Portugal\nDirk Glaesser\, Director\, World Tourism Organisation (UNWTO)\n\nPanel:\nLuis Araujo\, President\, Turismo de Portugal\nMario Ferreira\, CEO\, Douro Azul\nLuis Garcia\, CEO\, Europa Mundo\nCristina Siza Vieira\, President\, Hospitality Association of Portugal\nHenrik Lund\, CEO\, Hurtigruten Foundation\nAntonio Ferrari\, UN Regional Information Centre - Moderator\n\n------\n\nPowered by addevent.com \nShare your next event with us!\n
X-ALT-DESC;FMTTYPE=text/html:Maritime industries and touristic activities have a great economic potential for countries, but also pose a challenge when it comes to environmental impacts such as pressure on natural resources, pollution, and acidification. Protecting the countries' ecosystems and promoting the companies' transition to more sustainable practices is a driving force for all ocean related activities and a winwin situation for all stakeholders involved. Businesses that depend on coastal and maritime ecosystems need to innovate and rethink their current business models and approach, by integrating sustainability principles and practices to improve their performance.<br><br>Speakers: <br />Mario Parra da Silva, Chair of the Board, Global Compact Network Portugal<br />Dirk Glaesser, Director, World Tourism Organisation (UNWTO)<br><br>Panel:<br />Luis Araujo, President, Turismo de Portugal<br />Mario Ferreira, CEO, Douro Azul<br />Luis Garcia, CEO, Europa Mundo<br />Cristina Siza Vieira, President, Hospitality Association of Portugal<br />Henrik Lund, CEO, Hurtigruten Foundation<br />Antonio Ferrari, UN Regional Information Centre - Moderator<br /><br />------<br /><br />Powered by addevent.com <br>Share your next event with us!<br>
LOCATION:EMEL - Alameda das Linhas de Torres 200\, 1750-150 Lisboa\, Portugal
BEGIN:VALARM
TRIGGER:-PT30M
ACTION:DISPLAY
DESCRIPTION:Reminder
END:VALARM
TRANSP:OPAQUE
END:VEVENT
END:VCALENDAR